Workbook

Sheet 注意・記入例
A1: 入力する際の注意事項・記入例
A3: ０ | C3: 共通事項 | L3: ● | N3: 黄色 | P3: と | R3: 灰色 | T3: のセルへ必要事項を入力してください。作成日の日付も入力してください。
A5: １ | C5: 大会名 | L5: ●九州か全国をリストから選択してください。
A7: ２ | C7: 郡市町名 | L7: ●リストから選択してください。（佐々町、小値賀町は佐世保を選択）
A9: ３ | C9: 学校名 | L9: ●１の郡市町名を入力すると、リストから選択することができます。
A11: ４ | C11: 参加選手名 | L11: ●１人（もしくはペア）につき、報告書１枚を提出してください。
L12: ●陸上・水泳において、記入欄が足りない場合はもう１枚使用してください。
A14: ５ | C14: 参加競技 | L14: ●リストから選択してください。（性別も選択）
L15: ●個人戦については、団体戦との重複の「あり」「なし」を必ず選択してください。
A17: ６ | C17: 開催県 | L17: ●リストから選択してください。
A19: ７ | C19: 参加期間 | L19: ●開会式への参加の有無をリストから選択してください。
L20: ●下の「旅費の補助対象について」に基づき、日付を入力してください。泊数は自動で入力
L21: されます。（長崎県開催で宿泊をしない場合は、「泊」の数字のみ削除し、大会期間中、
L22: 参加した日数を「日」に直接入力）
L23: ●補助対象外の宿泊が発生した場合は、備考欄に理由を入力してください。
L30: 【備考の記入例】
L31: ・７日（火）に出発予定であったが、台風接近のため、６日（月）に出発、９日（木）に帰省した。 ・試合終了時刻が１６：３０で到着が遅くなるため、後泊し、翌日帰県した。 ・個人戦と団体戦の引率を兼ねていたため、団体戦のみの生徒も全日程終了後、帰県した。
A34: ８ | C34: 参加詳細 | L34: ●記入例を参考に、大会の記録を入力してください。（対戦相手、戦績、結果等）
L35: ●改行は、Altキーを押しながら、Enterキーを押してください。
L36: ●特記事項がある場合は、記入例を参考に入力してください。
L37: 【参加詳細記入例（団体戦）】
L38: １回戦 ○ ３０対２０ 福岡中（福岡） ２回戦 ○ ３０対２０ 熊本中（熊本） 準決勝 ● １０対２０ 大分中（大分） ［結果］第３位
L40: 【参加詳細記入例（個人戦）】
L41: １回戦 ○ ３対２ 福岡中・山本太郎（福岡） ２回戦 ● １対３ 熊本中・田中次郎（熊本） ［結果］２回戦敗退
L43: 【特記事項の例】
L44: ・台風接近のため、終日宿舎待機。 ・けがのため棄権。 ・個人戦のみ出場のため、試合に向け調整日とした。
A47: ９ | C47: 添付書類 | L47: ●県大会後、申込みをした際の参加申込書の写しを１枚添付してください。
L48: ●参加申込書に記載された中学生のみを対象に旅費を補助します。
L49: ●大会プログラムの写し（結果入）や大会結果を添付する必要はありません。
A51: 10 | C51: その他 | L51: ●参加実績報告書は、それぞれの大会で作成してください。
L52: ●提出先は、県中体連ではなく、各郡市町中体連となります。
L53: ●締切は、各郡市町中体連へお尋ねください。
L54: ●駅伝は県中体連へ直接提出となります。
L55: ●必ず校長印が押されたものを提出してください。

Sheet 団体（球技・武道）
A1: 長崎県中学校体育連盟会長 様 | AS1: 令和 | AY1: 年 | BC1: 月 | BG1: 日
BA2: 団体 (球技・武道)
AB3: 大会参加実績報告書
A5: 下記大会に参加いたしましたので、関係書類を添えて報告いたします。
A7: １ | C7: 郡市町名
A9: ２ | C9: 学校名
A11: ３ | C11: 参加競技 | Y11: 競技 | AD11: 性別
A13: ４ | C13: 開催県
A15: ５ | C15: 参加期間 | L15: 開会式への参加
L17: 自 | N17: 令和 | T17: 年 | X17: 月 | AB17: 日 | AD17: ( | AG17: )
L19: 至 | N19: 令和 | T19: 年 | X19: 月 | AB19: 日 | AD19: ( | AG19: ) | AI19: ( | AJ19: =AN19-1 -> 0 | AL19: 泊 | AN19: =Z19-Z17+1 -> 1 | AP19: 日 | AR19: )
AE20: ※長崎開催で宿泊を伴わない場合は、泊の数字を削除
L21: 備考
A24: ６ | C24: 参加詳細 | L24: 移動日 | T24: 往路 | Z24: 月 | AD24: 日 | AF24: ( | AI24: ) | AJ24: 復路 | AP24: 月 | AT24: 日 | AV24: ( | AY24: )
A25: [大会の各記録を入力] ・対戦相手 ・戦績（予選・決勝等） [特記事項を入力]
L26: 競技１日目 | V26: 月 | Z26: 日 | AB26: ( | AE26: )
L31: 競技２日目 | V31: 月 | Z31: 日 | AB31: ( | AE31: )
L36: 競技３日目 | V36: 月 | Z36: 日 | AB36: ( | AE36: )
L41: 競技４日目 | V41: 月 | Z41: 日 | AB41: ( | AE41: )
A46: ７ | C46: 添付書類 | L46: 大会参加申込書写し１部（県中体連へ提出したものと同様）
A48: ●提出先：各郡市町中体連 締切：◯月◯日（◯）必着
K50: =L9 -> 0 | AJ50: 校長 | AZ50: 印
K52: 報告者名 | AD52: 連絡先☎

Sheet 個人（球技・武道）
A1: 長崎県中学校体育連盟会長 様 | AS1: 令和 | AY1: 年 | BC1: 月 | BG1: 日
BA2: 個人 (球技・武道)
AB3: 大会参加実績報告書
A5: 下記大会に参加いたしましたので、関係書類を添えて報告いたします。
A7: １ | C7: 郡市町名
A9: ２ | C9: 学校名
A11: ３ | C11: 参加選手名 | L11: Ａ | Y11: 学年 | AC11: 年生 | AG11: Ｂ | AT11: 学年 | AX11: 年生
A13: ３ | C13: 参加競技 | Y13: 競技 | AD13: 性別 | AN13: 団体戦との重複
A15: ４ | C15: 開催県
A17: ５ | C17: 参加期間 | L17: 開会式への参加
L19: 自 | N19: 令和 | T19: 年 | X19: 月 | AB19: 日 | AD19: ( | AG19: )
L21: 至 | N21: 令和 | T21: 年 | X21: 月 | AB21: 日 | AD21: ( | AG21: ) | AI21: ( | AJ21: =AN21-1 -> 0 | AL21: 泊 | AN21: =Z21-Z19+1 -> 1 | AP21: 日 | AR21: )
AE22: ※長崎開催で宿泊を伴わない場合は、泊の数字を削除
L23: 備考
A26: ６ | C26: 参加詳細 | L26: 移動日 | T26: 往路 | Z26: 月 | AD26: 日 | AF26: ( | AI26: ) | AJ26: 復路 | AP26: 月 | AT26: 日 | AV26: ( | AY26: )
A27: [大会の各記録を入力] ・対戦相手 ・戦績（予選・決勝等） [特記事項を入力]
L28: 競技１日目 | V28: 月 | Z28: 日 | AB28: ( | AE28: )
L33: 競技２日目 | V33: 月 | Z33: 日 | AB33: ( | AE33: )
L38: 競技３日目 | V38: 月 | Z38: 日 | AB38: ( | AE38: )
L43: 競技４日目 | V43: 月 | Z43: 日 | AB43: ( | AE43: )
A48: ７ | C48: 添付書類 | L48: 大会参加申込書写し１部（県中体連へ提出したものと同様）
A50: ●提出先：各郡市町中体連 締切：◯月◯日（◯）必着
K52: =L9 -> 0 | AJ52: 校長 | AZ52: 印
K54: 報告者名 | AD54: 連絡先☎

Sheet 陸上・水泳
A1: 長崎県中学校体育連盟会長 様 | AS1: 令和 | AY1: 年 | BC1: 月 | BG1: 日
BA2: 陸上･水泳
AB3: 大会参加実績報告書
A5: 下記大会に参加いたしましたので、関係書類を添えて報告いたします。
A7: １ | C7: 郡市町名 | X7: 学校名
A9: ２ | C9: 参加競技 | T9: 競技
AC10: ※ ２参加競技を入力すると、種目が選択できます。
A11: ３ | C11: 参加選手名 | N11: 氏名（リレーは補員も含む） | Y11: 開会式参加 | AC11: 個人種目名 | AS11: リレー
L12: ① | AC12: ( | AJ12: ) | AK12: ( | AR12: ) | AS12: ( | AZ12: ) | BA12: ( | BH12: )
L13: ② | AC13: ( | AJ13: ) | AK13: ( | AR13: ) | AS13: ( | AZ13: ) | BA13: ( | BH13: )
L14: ③ | AC14: ( | AJ14: ) | AK14: ( | AR14: ) | AS14: ( | AZ14: ) | BA14: ( | BH14: )
L15: ④ | AC15: ( | AJ15: ) | AK15: ( | AR15: ) | AS15: ( | AZ15: ) | BA15: ( | BH15: )
L16: ⑤ | AC16: ( | AJ16: ) | AK16: ( | AR16: ) | AS16: ( | AZ16: ) | BA16: ( | BH16: )
L17: ⑥ | AC17: ( | AJ17: ) | AK17: ( | AR17: ) | AS17: ( | AZ17: ) | BA17: ( | BH17: )
A19: ４ | C19: 開催県
A21: ５ | C21: 参加期間 | L21: 自 | N21: 令和 | T21: 年 | X21: 月 | AB21: 日 | AD21: ( | AG21: )
L23: 至 | N23: 令和 | T23: 年 | X23: 月 | AB23: 日 | AD23: ( | AG23: ) | AI23: ( | AJ23: =AN23-1 -> 0 | AL23: 泊 | AN23: =Z23-Z21+1 -> 1 | AP23: 日 | AR23: )
AE24: ※長崎開催で宿泊を伴わない場合は、泊の数字を削除
L25: 備考
A28: ６ | C28: 参加詳細 | L28: 移動日 | T28: 往路 | Z28: 月 | AD28: 日 | AF28: ( | AI28: ) | AJ28: 復路 | AP28: 月 | AT28: 日 | AV28: ( | AY28: )
A29: [大会の各記録を入力] ・戦績（予選・決勝等） [特記事項を入力]
L30: 競技１日目 | V30: 月 | Z30: 日 | AB30: ( | AE30: )
L34: 競技２日目 | V34: 月 | Z34: 日 | AB34: ( | AE34: )
L38: 競技３日目 | V38: 月 | Z38: 日 | AB38: ( | AE38: )
L42: 競技４日目 | V42: 月 | Z42: 日 | AB42: ( | AE42: )
A46: ７ | C46: 添付書類 | L46: 大会参加申込書写し１部（県中体連へ提出したものと同様）
A48: ●提出先：各郡市町中体連 締切：◯月◯日（◯）必着
K50: =AG7 -> 0 | AJ50: 校長 | AZ50: 印
K52: 報告者名 | AD52: 連絡先☎

Sheet 駅伝
A1: 長崎県中学校体育連盟会長 様 | AS1: 令和 | AY1: 年 | BC1: 月 | BG1: 日
BA2: 駅伝
AB3: 大会参加実績報告書
A5: 下記大会に参加いたしましたので、関係書類を添えて報告いたします。
A7: １ | C7: 郡市町名
A9: ２ | C9: 学校名 | AI9: 性別
A11: ３ | C11: 参加人数 | P11: 名
A13: ４ | C13: 開催県
A15: ５ | C15: 参加期間 | L15: 自 | N15: 令和 | T15: 年 | X15: 月 | AB15: 日 | AD15: ( | AG15: )
L17: 至 | N17: 令和 | T17: 年 | X17: 月 | AB17: 日 | AD17: ( | AG17: ) | AI17: ( | AJ17: =AN17-1 -> 0 | AL17: 泊 | AN17: =Z17-Z15+1 -> 1 | AP17: 日 | AR17: )
AE18: ※長崎開催で宿泊を伴わない場合は、泊の数字を削除
L19: 備考
A22: ６ | C22: 参加詳細 | L22: 移動日 | T22: 往路 | Z22: 月 | AD22: 日 | AF22: ( | AI22: ) | AJ22: 復路 | AP22: 月 | AT22: 日 | AV22: ( | AY22: )
A23: [大会の各記録を入力] ・戦績（予選・決勝等） [特記事項を入力]
L24: 競技１日目 | V24: 月 | Z24: 日 | AB24: ( | AE24: )
L29: 競技２日目 | V29: 月 | Z29: 日 | AB29: ( | AE29: )
L34: 競技３日目 | V34: 月 | Z34: 日 | AB34: ( | AE34: )
A40: ７ | C40: 添付書類 | L40: 大会参加申込書写し１部（県中体連へ提出したものの同様）
A42: ●提出先：県中体連 締切：◯月◯日（◯）必着
K44: =L9 -> 0 | AJ44: 校長 | AZ44: 印
K46: 報告者名 | AD46: 連絡先☎

Sheet データ
A1: 郡市町名 | B1: 学校名 | C1: 郡市 | D1: 競技名 | E1: 県名 | F1: 団体データ | H1: 個人データ | J1: 陸上水泳データ | R1: 駅伝データ
B2: 対馬市立厳原中学校 | C2: 対馬 | G2: ='団体（球技・武道）'!L7 -> 0 | I2: ='個人（球技・武道）'!L7 -> 0 | K2: =陸上・水泳!L7 -> 0 | L2: 1年100m | M2: 陸上 | O2: =陸上・水泳!L9 -> 0 | Q2: =陸上・水泳!L9 -> 0 | S2: =駅伝!L7 -> 0
A3: 対馬 | B3: 対馬市立久田中学校 | C3: 対馬 | D3: 陸上 | E3: 福岡県 | F3: {=IFERROR(INDEX($B$2:$C$184,MATCH(LARGE(($C$2:$C$184=$G$2)*1/ROW($C$2:$C$184),ROWS($C$2:$C2)),1/ROW($C$2:$C$184),0),COLUMNS($C$2:C$2)),"")} | H3: {=IFERROR(INDEX($B$2:$C$184,MATCH(LARGE(($C$2:$C$184=$I$2)*1/ROW($C$2:$C$184),ROWS($C$2:$C2)),1/ROW($C$2:$C$184),0),COLUMNS($C$2:C$2)),"")} | J3: {=IFERROR(INDEX($B$2:$C$184,MATCH(LARGE(($C$2:$C$184=$K$2)*1/ROW($C$2:$C$184),ROWS($C$2:$C2)),1/ROW($C$2:$C$184),0),COLUMNS($C$2:C$2)),"")} | L3: 2年100m | M3: 陸上 | N3: {=IFERROR(INDEX($L$2:$M$42,MATCH(LARGE(($M$2:$M$42=$O$2)*1/ROW($M$2:$M$42),ROWS($M$2:$M2)),1/ROW($M$2:$M$42),0),COLUMNS($M$2:M$2)),"")} | P3: {=IFERROR(INDEX($L$44:$M$47,MATCH(LARGE(($M$44:$M$47=$Q$2)*1/ROW($M$44:$M$47),ROWS($M$44:$M44)),1/ROW($M$44:$M$47),0),COLUMNS($M$44:M$44)),"")} | R3: {=IFERROR(INDEX($B$2:$C$184,MATCH(LARGE(($C$2:$C$184=$S$2)*1/ROW($C$2:$C$184),ROWS($C$2:$C2)),1/ROW($C$2:$C$184),0),COLUMNS($C$2:C$2)),"")}
A4: 壱岐 | B4: 対馬市立豆酘中学校 | C4: 対馬 | D4: 水泳 | E4: 佐賀県 | F4: {=IFERROR(INDEX($B$2:$C$184,MATCH(LARGE(($C$2:$C$184=$G$2)*1/ROW($C$2:$C$184),ROWS($C$2:$C3)),1/ROW($C$2:$C$184),0),COLUMNS($C$2:C$2)),"")} | H4: {=IFERROR(INDEX($B$2:$C$184,MATCH(LARGE(($C$2:$C$184=$I$2)*1/ROW($C$2:$C$184),ROWS($C$2:$C3)),1/ROW($C$2:$C$184),0),COLUMNS($C$2:C$2)),"")} | J4: {=IFERROR(INDEX($B$2:$C$184,MATCH(LARGE(($C$2:$C$184=$K$2)*1/ROW($C$2:$C$184),ROWS($C$2:$C3)),1/ROW($C$2:$C$184),0),COLUMNS($C$2:C$2)),"")} | L4: 3年100m | M4: 陸上 | N4: {=IFERROR(INDEX($L$2:$M$42,MATCH(LARGE(($M$2:$M$42=$O$2)*1/ROW($M$2:$M$42),ROWS($M$2:$M3)),1/ROW($M$2:$M$42),0),COLUMNS($M$2:M$2)),"")} | P4: {=IFERROR(INDEX($L$44:$M$47,MATCH(LARGE(($M$44:$M$47=$Q$2)*1/ROW($M$44:$M$47),ROWS($M$44:$M45)),1/ROW($M$44:$M$47),0),COLUMNS($M$44:M$44)),"")} | R4: {=IFERROR(INDEX($B$2:$C$184,MATCH(LARGE(($C$2:$C$184=$S$2)*1/ROW($C$2:$C$184),ROWS($C$2:$C3)),1/ROW($C$2:$C$184),0),COLUMNS($C$2:C$2)),"")}
A5: 新上五島 | B5: 対馬市立雞知中学校 | C5: 対馬 | E5: 長崎県 | F5: {=IFERROR(INDEX($B$2:$C$184,MATCH(LARGE(($C$2:$C$184=$G$2)*1/ROW($C$2:$C$184),ROWS($C$2:$C4)),1/ROW($C$2:$C$184),0),COLUMNS($C$2:C$2)),"")} | H5: {=IFERROR(INDEX($B$2:$C$184,MATCH(LARGE(($C$2:$C$184=$I$2)*1/ROW($C$2:$C$184),ROWS($C$2:$C4)),1/ROW($C$2:$C$184),0),COLUMNS($C$2:C$2)),"")} | J5: {=IFERROR(INDEX($B$2:$C$184,MATCH(LARGE(($C$2:$C$184=$K$2)*1/ROW($C$2:$C$184),ROWS($C$2:$C4)),1/ROW($C$2:$C$184),0),COLUMNS($C$2:C$2)),"")} | L5: 共通100m | M5: 陸上 | N5: {=IFERROR(INDEX($L$2:$M$42,MATCH(LARGE(($M$2:$M$42=$O$2)*1/ROW($M$2:$M$42),ROWS($M$2:$M4)),1/ROW($M$2:$M$42),0),COLUMNS($M$2:M$2)),"")} | R5: {=IFERROR(INDEX($B$2:$C$184,MATCH(LARGE(($C$2:$C$184=$S$2)*1/ROW($C$2:$C$184),ROWS($C$2:$C4)),1/ROW($C$2:$C$184),0),COLUMNS($C$2:C$2)),"")}
A6: 五島 | B6: 対馬市立大船越中学校 | C6: 対馬 | D6: 体操 | E6: 熊本県 | F6: {=IFERROR(INDEX($B$2:$C$184,MATCH(LARGE(($C$2:$C$184=$G$2)*1/ROW($C$2:$C$184),ROWS($C$2:$C5)),1/ROW($C$2:$C$184),0),COLUMNS($C$2:C$2)),"")} | H6: {=IFERROR(INDEX($B$2:$C$184,MATCH(LARGE(($C$2:$C$184=$I$2)*1/ROW($C$2:$C$184),ROWS($C$2:$C5)),1/ROW($C$2:$C$184),0),COLUMNS($C$2:C$2)),"")} | J6: {=IFERROR(INDEX($B$2:$C$184,MATCH(LARGE(($C$2:$C$184=$K$2)*1/ROW($C$2:$C$184),ROWS($C$2:$C5)),1/ROW($C$2:$C$184),0),COLUMNS($C$2:C$2)),"")} | L6: 共通200m | M6: 陸上 | N6: {=IFERROR(INDEX($L$2:$M$42,MATCH(LARGE(($M$2:$M$42=$O$2)*1/ROW($M$2:$M$42),ROWS($M$2:$M5)),1/ROW($M$2:$M$42),0),COLUMNS($M$2:M$2)),"")} | R6: {=IFERROR(INDEX($B$2:$C$184,MATCH(LARGE(($C$2:$C$184=$S$2)*1/ROW($C$2:$C$184),ROWS($C$2:$C5)),1/ROW($C$2:$C$184),0),COLUMNS($C$2:C$2)),"")}
A7: 平戸 | B7: 対馬市立豊玉中学校 | C7: 対馬 | D7: 新体操 | E7: 大分県 | F7: {=IFERROR(INDEX($B$2:$C$184,MATCH(LARGE(($C$2:$C$184=$G$2)*1/ROW($C$2:$C$184),ROWS($C$2:$C6)),1/ROW($C$2:$C$184),0),COLUMNS($C$2:C$2)),"")} | H7: {=IFERROR(INDEX($B$2:$C$184,MATCH(LARGE(($C$2:$C$184=$I$2)*1/ROW($C$2:$C$184),ROWS($C$2:$C6)),1/ROW($C$2:$C$184),0),COLUMNS($C$2:C$2)),"")} | J7: {=IFERROR(INDEX($B$2:$C$184,MATCH(LARGE(($C$2:$C$184=$K$2)*1/ROW($C$2:$C$184),ROWS($C$2:$C6)),1/ROW($C$2:$C$184),0),COLUMNS($C$2:C$2)),"")} | L7: 共通走高跳 | M7: 陸上 | N7: {=IFERROR(INDEX($L$2:$M$42,MATCH(LARGE(($M$2:$M$42=$O$2)*1/ROW($M$2:$M$42),ROWS($M$2:$M6)),1/ROW($M$2:$M$42),0),COLUMNS($M$2:M$2)),"")} | R7: {=IFERROR(INDEX($B$2:$C$184,MATCH(LARGE(($C$2:$C$184=$S$2)*1/ROW($C$2:$C$184),ROWS($C$2:$C6)),1/ROW($C$2:$C$184),0),COLUMNS($C$2:C$2)),"")}
A8: 松浦 | B8: 対馬市立西部中学校 | C8: 対馬 | D8: バスケットボール | E8: 宮崎県 | F8: {=IFERROR(INDEX($B$2:$C$184,MATCH(LARGE(($C$2:$C$184=$G$2)*1/ROW($C$2:$C$184),ROWS($C$2:$C7)),1/ROW($C$2:$C$184),0),COLUMNS($C$2:C$2)),"")} | H8: {=IFERROR(INDEX($B$2:$C$184,MATCH(LARGE(($C$2:$C$184=$I$2)*1/ROW($C$2:$C$184),ROWS($C$2:$C7)),1/ROW($C$2:$C$184),0),COLUMNS($C$2:C$2)),"")} | J8: {=IFERROR(INDEX($B$2:$C$184,MATCH(LARGE(($C$2:$C$184=$K$2)*1/ROW($C$2:$C$184),ROWS($C$2:$C7)),1/ROW($C$2:$C$184),0),COLUMNS($C$2:C$2)),"")} | L8: 共通走幅跳 | M8: 陸上 | N8: {=IFERROR(INDEX($L$2:$M$42,MATCH(LARGE(($M$2:$M$42=$O$2)*1/ROW($M$2:$M$42),ROWS($M$2:$M7)),1/ROW($M$2:$M$42),0),COLUMNS($M$2:M$2)),"")} | R8: {=IFERROR(INDEX($B$2:$C$184,MATCH(LARGE(($C$2:$C$184=$S$2)*1/ROW($C$2:$C$184),ROWS($C$2:$C7)),1/ROW($C$2:$C$184),0),COLUMNS($C$2:C$2)),"")}
A9: 佐世保 | B9: 対馬市立東部中学校 | C9: 対馬 | D9: バレーボール | E9: 鹿児島県 | F9: {=IFERROR(INDEX($B$2:$C$184,MATCH(LARGE(($C$2:$C$184=$G$2)*1/ROW($C$2:$C$184),ROWS($C$2:$C8)),1/ROW($C$2:$C$184),0),COLUMNS($C$2:C$2)),"")} | H9: {=IFERROR(INDEX($B$2:$C$184,MATCH(LARGE(($C$2:$C$184=$I$2)*1/ROW($C$2:$C$184),ROWS($C$2:$C8)),1/ROW($C$2:$C$184),0),COLUMNS($C$2:C$2)),"")} | J9: {=IFERROR(INDEX($B$2:$C$184,MATCH(LARGE(($C$2:$C$184=$K$2)*1/ROW($C$2:$C$184),ROWS($C$2:$C8)),1/ROW($C$2:$C$184),0),COLUMNS($C$2:C$2)),"")} | L9: 共通砲丸投 | M9: 陸上 | N9: {=IFERROR(INDEX($L$2:$M$42,MATCH(LARGE(($M$2:$M$42=$O$2)*1/ROW($M$2:$M$42),ROWS($M$2:$M8)),1/ROW($M$2:$M$42),0),COLUMNS($M$2:M$2)),"")} | R9: {=IFERROR(INDEX($B$2:$C$184,MATCH(LARGE(($C$2:$C$184=$S$2)*1/ROW($C$2:$C$184),ROWS($C$2:$C8)),1/ROW($C$2:$C$184),0),COLUMNS($C$2:C$2)),"")}
A10: 東彼杵 | B10: 対馬市立仁田中学校 | C10: 対馬 | D10: ハンドボール | E10: 沖縄県 | F10: {=IFERROR(INDEX($B$2:$C$184,MATCH(LARGE(($C$2:$C$184=$G$2)*1/ROW($C$2:$C$184),ROWS($C$2:$C9)),1/ROW($C$2:$C$184),0),COLUMNS($C$2:C$2)),"")} | H10: {=IFERROR(INDEX($B$2:$C$184,MATCH(LARGE(($C$2:$C$184=$I$2)*1/ROW($C$2:$C$184),ROWS($C$2:$C9)),1/ROW($C$2:$C$184),0),COLUMNS($C$2:C$2)),"")} | J10: {=IFERROR(INDEX($B$2:$C$184,MATCH(LARGE(($C$2:$C$184=$K$2)*1/ROW($C$2:$C$184),ROWS($C$2:$C9)),1/ROW($C$2:$C$184),0),COLUMNS($C$2:C$2)),"")} | L10: 共通400m | M10: 陸上 | N10: {=IFERROR(INDEX($L$2:$M$42,MATCH(LARGE(($M$2:$M$42=$O$2)*1/ROW($M$2:$M$42),ROWS($M$2:$M9)),1/ROW($M$2:$M$42),0),COLUMNS($M$2:M$2)),"")} | R10: {=IFERROR(INDEX($B$2:$C$184,MATCH(LARGE(($C$2:$C$184=$S$2)*1/ROW($C$2:$C$184),ROWS($C$2:$C9)),1/ROW($C$2:$C$184),0),COLUMNS($C$2:C$2)),"")}
A11: 大村 | B11: 対馬市立佐須奈中学校 | C11: 対馬 | D11: サッカー | F11: {=IFERROR(INDEX($B$2:$C$184,MATCH(LARGE(($C$2:$C$184=$G$2)*1/ROW($C$2:$C$184),ROWS($C$2:$C10)),1/ROW($C$2:$C$184),0),COLUMNS($C$2:C$2)),"")} | H11: {=IFERROR(INDEX($B$2:$C$184,MATCH(LARGE(($C$2:$C$184=$I$2)*1/ROW($C$2:$C$184),ROWS($C$2:$C10)),1/ROW($C$2:$C$184),0),COLUMNS($C$2:C$2)),"")} | J11: {=IFERROR(INDEX($B$2:$C$184,MATCH(LARGE(($C$2:$C$184=$K$2)*1/ROW($C$2:$C$184),ROWS($C$2:$C10)),1/ROW($C$2:$C$184),0),COLUMNS($C$2:C$2)),"")} | L11: 共通800m | M11: 陸上 | N11: {=IFERROR(INDEX($L$2:$M$42,MATCH(LARGE(($M$2:$M$42=$O$2)*1/ROW($M$2:$M$42),ROWS($M$2:$M10)),1/ROW($M$2:$M$42),0),COLUMNS($M$2:M$2)),"")} | R11: {=IFERROR(INDEX($B$2:$C$184,MATCH(LARGE(($C$2:$C$184=$S$2)*1/ROW($C$2:$C$184),ROWS($C$2:$C10)),1/ROW($C$2:$C$184),0),COLUMNS($C$2:C$2)),"")}
A12: 諫早 | B12: 対馬市立比田勝中学校 | C12: 対馬 | D12: 軟式野球 | E12: 北海道 | F12: {=IFERROR(INDEX($B$2:$C$184,MATCH(LARGE(($C$2:$C$184=$G$2)*1/ROW($C$2:$C$184),ROWS($C$2:$C11)),1/ROW($C$2:$C$184),0),COLUMNS($C$2:C$2)),"")} | H12: {=IFERROR(INDEX($B$2:$C$184,MATCH(LARGE(($C$2:$C$184=$I$2)*1/ROW($C$2:$C$184),ROWS($C$2:$C11)),1/ROW($C$2:$C$184),0),COLUMNS($C$2:C$2)),"")} | J12: {=IFERROR(INDEX($B$2:$C$184,MATCH(LARGE(($C$2:$C$184=$K$2)*1/ROW($C$2:$C$184),ROWS($C$2:$C11)),1/ROW($C$2:$C$184),0),COLUMNS($C$2:C$2)),"")} | L12: 1年1500m | M12: 陸上 | N12: {=IFERROR(INDEX($L$2:$M$42,MATCH(LARGE(($M$2:$M$42=$O$2)*1/ROW($M$2:$M$42),ROWS($M$2:$M11)),1/ROW($M$2:$M$42),0),COLUMNS($M$2:M$2)),"")} | R12: {=IFERROR(INDEX($B$2:$C$184,MATCH(LARGE(($C$2:$C$184=$S$2)*1/ROW($C$2:$C$184),ROWS($C$2:$C11)),1/ROW($C$2:$C$184),0),COLUMNS($C$2:C$2)),"")}
A13: 雲仙 | B13: 壱岐市立郷ノ浦中学校 | C13: 壱岐 | D13: 卓球 | E13: 青森県 | F13: {=IFERROR(INDEX($B$2:$C$184,MATCH(LARGE(($C$2:$C$184=$G$2)*1/ROW($C$2:$C$184),ROWS($C$2:$C12)),1/ROW($C$2:$C$184),0),COLUMNS($C$2:C$2)),"")} | H13: {=IFERROR(INDEX($B$2:$C$184,MATCH(LARGE(($C$2:$C$184=$I$2)*1/ROW($C$2:$C$184),ROWS($C$2:$C12)),1/ROW($C$2:$C$184),0),COLUMNS($C$2:C$2)),"")} | J13: {=IFERROR(INDEX($B$2:$C$184,MATCH(LARGE(($C$2:$C$184=$K$2)*1/ROW($C$2:$C$184),ROWS($C$2:$C12)),1/ROW($C$2:$C$184),0),COLUMNS($C$2:C$2)),"")} | L13: 2年1500m | M13: 陸上 | N13: {=IFERROR(INDEX($L$2:$M$42,MATCH(LARGE(($M$2:$M$42=$O$2)*1/ROW($M$2:$M$42),ROWS($M$2:$M12)),1/ROW($M$2:$M$42),0),COLUMNS($M$2:M$2)),"")} | R13: {=IFERROR(INDEX($B$2:$C$184,MATCH(LARGE(($C$2:$C$184=$S$2)*1/ROW($C$2:$C$184),ROWS($C$2:$C12)),1/ROW($C$2:$C$184),0),COLUMNS($C$2:C$2)),"")}
A14: 南島原 | B14: 壱岐市立勝本中学校 | C14: 壱岐 | D14: 相撲 | E14: 岩手県 | F14: {=IFERROR(INDEX($B$2:$C$184,MATCH(LARGE(($C$2:$C$184=$G$2)*1/ROW($C$2:$C$184),ROWS($C$2:$C13)),1/ROW($C$2:$C$184),0),COLUMNS($C$2:C$2)),"")} | H14: {=IFERROR(INDEX($B$2:$C$184,MATCH(LARGE(($C$2:$C$184=$I$2)*1/ROW($C$2:$C$184),ROWS($C$2:$C13)),1/ROW($C$2:$C$184),0),COLUMNS($C$2:C$2)),"")} | J14: {=IFERROR(INDEX($B$2:$C$184,MATCH(LARGE(($C$2:$C$184=$K$2)*1/ROW($C$2:$C$184),ROWS($C$2:$C13)),1/ROW($C$2:$C$184),0),COLUMNS($C$2:C$2)),"")} | L14: 3年1500m | M14: 陸上 | N14: {=IFERROR(INDEX($L$2:$M$42,MATCH(LARGE(($M$2:$M$42=$O$2)*1/ROW($M$2:$M$42),ROWS($M$2:$M13)),1/ROW($M$2:$M$42),0),COLUMNS($M$2:M$2)),"")} | R14: {=IFERROR(INDEX($B$2:$C$184,MATCH(LARGE(($C$2:$C$184=$S$2)*1/ROW($C$2:$C$184),ROWS($C$2:$C13)),1/ROW($C$2:$C$184),0),COLUMNS($C$2:C$2)),"")}
A15: 島原 | B15: 壱岐市立芦辺中学校 | C15: 壱岐 | D15: 柔道 | E15: 宮城県 | F15: {=IFERROR(INDEX($B$2:$C$184,MATCH(LARGE(($C$2:$C$184=$G$2)*1/ROW($C$2:$C$184),ROWS($C$2:$C14)),1/ROW($C$2:$C$184),0),COLUMNS($C$2:C$2)),"")} | H15: {=IFERROR(INDEX($B$2:$C$184,MATCH(LARGE(($C$2:$C$184=$I$2)*1/ROW($C$2:$C$184),ROWS($C$2:$C14)),1/ROW($C$2:$C$184),0),COLUMNS($C$2:C$2)),"")} | J15: {=IFERROR(INDEX($B$2:$C$184,MATCH(LARGE(($C$2:$C$184=$K$2)*1/ROW($C$2:$C$184),ROWS($C$2:$C14)),1/ROW($C$2:$C$184),0),COLUMNS($C$2:C$2)),"")} | L15: 共通1500m | M15: 陸上 | N15: {=IFERROR(INDEX($L$2:$M$42,MATCH(LARGE(($M$2:$M$42=$O$2)*1/ROW($M$2:$M$42),ROWS($M$2:$M14)),1/ROW($M$2:$M$42),0),COLUMNS($M$2:M$2)),"")} | R15: {=IFERROR(INDEX($B$2:$C$184,MATCH(LARGE(($C$2:$C$184=$S$2)*1/ROW($C$2:$C$184),ROWS($C$2:$C14)),1/ROW($C$2:$C$184),0),COLUMNS($C$2:C$2)),"")}
A16: 西海 | B16: 壱岐市立石田中学校 | C16: 壱岐 | D16: 剣道 | E16: 秋田県 | F16: {=IFERROR(INDEX($B$2:$C$184,MATCH(LARGE(($C$2:$C$184=$G$2)*1/ROW($C$2:$C$184),ROWS($C$2:$C15)),1/ROW($C$2:$C$184),0),COLUMNS($C$2:C$2)),"")} | H16: {=IFERROR(INDEX($B$2:$C$184,MATCH(LARGE(($C$2:$C$184=$I$2)*1/ROW($C$2:$C$184),ROWS($C$2:$C15)),1/ROW($C$2:$C$184),0),COLUMNS($C$2:C$2)),"")} | J16: {=IFERROR(INDEX($B$2:$C$184,MATCH(LARGE(($C$2:$C$184=$K$2)*1/ROW($C$2:$C$184),ROWS($C$2:$C15)),1/ROW($C$2:$C$184),0),COLUMNS($C$2:C$2)),"")} | L16: 共通3000m | M16: 陸上 | N16: {=IFERROR(INDEX($L$2:$M$42,MATCH(LARGE(($M$2:$M$42=$O$2)*1/ROW($M$2:$M$42),ROWS($M$2:$M15)),1/ROW($M$2:$M$42),0),COLUMNS($M$2:M$2)),"")} | R16: {=IFERROR(INDEX($B$2:$C$184,MATCH(LARGE(($C$2:$C$184=$S$2)*1/ROW($C$2:$C$184),ROWS($C$2:$C15)),1/ROW($C$2:$C$184),0),COLUMNS($C$2:C$2)),"")}
A17: 西彼杵 | B17: 新上五島町立若松中学校 | C17: 新上五島 | D17: バドミントン | E17: 山形県 | F17: {=IFERROR(INDEX($B$2:$C$184,MATCH(LARGE(($C$2:$C$184=$G$2)*1/ROW($C$2:$C$184),ROWS($C$2:$C16)),1/ROW($C$2:$C$184),0),COLUMNS($C$2:C$2)),"")} | H17: {=IFERROR(INDEX($B$2:$C$184,MATCH(LARGE(($C$2:$C$184=$I$2)*1/ROW($C$2:$C$184),ROWS($C$2:$C16)),1/ROW($C$2:$C$184),0),COLUMNS($C$2:C$2)),"")} | J17: {=IFERROR(INDEX($B$2:$C$184,MATCH(LARGE(($C$2:$C$184=$K$2)*1/ROW($C$2:$C$184),ROWS($C$2:$C16)),1/ROW($C$2:$C$184),0),COLUMNS($C$2:C$2)),"")} | L17: 低学100mH | M17: 陸上 | N17: {=IFERROR(INDEX($L$2:$M$42,MATCH(LARGE(($M$2:$M$42=$O$2)*1/ROW($M$2:$M$42),ROWS($M$2:$M16)),1/ROW($M$2:$M$42),0),COLUMNS($M$2:M$2)),"")} | R17: {=IFERROR(INDEX($B$2:$C$184,MATCH(LARGE(($C$2:$C$184=$S$2)*1/ROW($C$2:$C$184),ROWS($C$2:$C16)),1/ROW($C$2:$C$184),0),COLUMNS($C$2:C$2)),"")}
A18: 長崎 | B18: 新上五島町立上五島中学校 | C18: 新上五島 | D18: ソフトボール | E18: 福島県 | F18: {=IFERROR(INDEX($B$2:$C$184,MATCH(LARGE(($C$2:$C$184=$G$2)*1/ROW($C$2:$C$184),ROWS($C$2:$C17)),1/ROW($C$2:$C$184),0),COLUMNS($C$2:C$2)),"")} | H18: {=IFERROR(INDEX($B$2:$C$184,MATCH(LARGE(($C$2:$C$184=$I$2)*1/ROW($C$2:$C$184),ROWS($C$2:$C17)),1/ROW($C$2:$C$184),0),COLUMNS($C$2:C$2)),"")} | J18: {=IFERROR(INDEX($B$2:$C$184,MATCH(LARGE(($C$2:$C$184=$K$2)*1/ROW($C$2:$C$184),ROWS($C$2:$C17)),1/ROW($C$2:$C$184),0),COLUMNS($C$2:C$2)),"")} | L18: 110mH | M18: 陸上 | N18: {=IFERROR(INDEX($L$2:$M$42,MATCH(LARGE(($M$2:$M$42=$O$2)*1/ROW($M$2:$M$42),ROWS($M$2:$M17)),1/ROW($M$2:$M$42),0),COLUMNS($M$2:M$2)),"")} | R18: {=IFERROR(INDEX($B$2:$C$184,MATCH(LARGE(($C$2:$C$184=$S$2)*1/ROW($C$2:$C$184),ROWS($C$2:$C17)),1/ROW($C$2:$C$184),0),COLUMNS($C$2:C$2)),"")}
B19: 新上五島町立魚目中学校 | C19: 新上五島 | D19: ソフトテニス | E19: 茨城県 | F19: {=IFERROR(INDEX($B$2:$C$184,MATCH(LARGE(($C$2:$C$184=$G$2)*1/ROW($C$2:$C$184),ROWS($C$2:$C18)),1/ROW($C$2:$C$184),0),COLUMNS($C$2:C$2)),"")} | H19: {=IFERROR(INDEX($B$2:$C$184,MATCH(LARGE(($C$2:$C$184=$I$2)*1/ROW($C$2:$C$184),ROWS($C$2:$C18)),1/ROW($C$2:$C$184),0),COLUMNS($C$2:C$2)),"")} | J19: {=IFERROR(INDEX($B$2:$C$184,MATCH(LARGE(($C$2:$C$184=$K$2)*1/ROW($C$2:$C$184),ROWS($C$2:$C18)),1/ROW($C$2:$C$184),0),COLUMNS($C$2:C$2)),"")} | L19: 共通棒高跳 | M19: 陸上 | N19: {=IFERROR(INDEX($L$2:$M$42,MATCH(LARGE(($M$2:$M$42=$O$2)*1/ROW($M$2:$M$42),ROWS($M$2:$M18)),1/ROW($M$2:$M$42),0),COLUMNS($M$2:M$2)),"")} | R19: {=IFERROR(INDEX($B$2:$C$184,MATCH(LARGE(($C$2:$C$184=$S$2)*1/ROW($C$2:$C$184),ROWS($C$2:$C18)),1/ROW($C$2:$C$184),0),COLUMNS($C$2:C$2)),"")}
B20: 新上五島町立有川中学校 | C20: 新上五島 | D20: 駅伝 | E20: 栃木県 | F20: {=IFERROR(INDEX($B$2:$C$184,MATCH(LARGE(($C$2:$C$184=$G$2)*1/ROW($C$2:$C$184),ROWS($C$2:$C19)),1/ROW($C$2:$C$184),0),COLUMNS($C$2:C$2)),"")} | H20: {=IFERROR(INDEX($B$2:$C$184,MATCH(LARGE(($C$2:$C$184=$I$2)*1/ROW($C$2:$C$184),ROWS($C$2:$C19)),1/ROW($C$2:$C$184),0),COLUMNS($C$2:C$2)),"")} | J20: {=IFERROR(INDEX($B$2:$C$184,MATCH(LARGE(($C$2:$C$184=$K$2)*1/ROW($C$2:$C$184),ROWS($C$2:$C19)),1/ROW($C$2:$C$184),0),COLUMNS($C$2:C$2)),"")} | L20: 共通三段跳 | M20: 陸上 | N20: {=IFERROR(INDEX($L$2:$M$42,MATCH(LARGE(($M$2:$M$42=$O$2)*1/ROW($M$2:$M$42),ROWS($M$2:$M19)),1/ROW($M$2:$M$42),0),COLUMNS($M$2:M$2)),"")} | R20: {=IFERROR(INDEX($B$2:$C$184,MATCH(LARGE(($C$2:$C$184=$S$2)*1/ROW($C$2:$C$184),ROWS($C$2:$C19)),1/ROW($C$2:$C$184),0),COLUMNS($C$2:C$2)),"")}
B21: 新上五島町立奈良尾中学校 | C21: 新上五島 | D21: 空手道 | E21: 群馬県 | F21: {=IFERROR(INDEX($B$2:$C$184,MATCH(LARGE(($C$2:$C$184=$G$2)*1/ROW($C$2:$C$184),ROWS($C$2:$C20)),1/ROW($C$2:$C$184),0),COLUMNS($C$2:C$2)),"")} | H21: {=IFERROR(INDEX($B$2:$C$184,MATCH(LARGE(($C$2:$C$184=$I$2)*1/ROW($C$2:$C$184),ROWS($C$2:$C20)),1/ROW($C$2:$C$184),0),COLUMNS($C$2:C$2)),"")} | J21: {=IFERROR(INDEX($B$2:$C$184,MATCH(LARGE(($C$2:$C$184=$K$2)*1/ROW($C$2:$C$184),ROWS($C$2:$C20)),1/ROW($C$2:$C$184),0),COLUMNS($C$2:C$2)),"")} | L21: 四種競技 | M21: 陸上 | N21: {=IFERROR(INDEX($L$2:$M$42,MATCH(LARGE(($M$2:$M$42=$O$2)*1/ROW($M$2:$M$42),ROWS($M$2:$M20)),1/ROW($M$2:$M$42),0),COLUMNS($M$2:M$2)),"")} | R21: {=IFERROR(INDEX($B$2:$C$184,MATCH(LARGE(($C$2:$C$184=$S$2)*1/ROW($C$2:$C$184),ROWS($C$2:$C20)),1/ROW($C$2:$C$184),0),COLUMNS($C$2:C$2)),"")}
B22: 五島市立福江中学校 | C22: 五島 | D22: テニス | E22: 埼玉県 | F22: {=IFERROR(INDEX($B$2:$C$184,MATCH(LARGE(($C$2:$C$184=$G$2)*1/ROW($C$2:$C$184),ROWS($C$2:$C21)),1/ROW($C$2:$C$184),0),COLUMNS($C$2:C$2)),"")} | H22: {=IFERROR(INDEX($B$2:$C$184,MATCH(LARGE(($C$2:$C$184=$I$2)*1/ROW($C$2:$C$184),ROWS($C$2:$C21)),1/ROW($C$2:$C$184),0),COLUMNS($C$2:C$2)),"")} | J22: {=IFERROR(INDEX($B$2:$C$184,MATCH(LARGE(($C$2:$C$184=$K$2)*1/ROW($C$2:$C$184),ROWS($C$2:$C21)),1/ROW($C$2:$C$184),0),COLUMNS($C$2:C$2)),"")} | L22: 1年800m | M22: 陸上 | N22: {=IFERROR(INDEX($L$2:$M$42,MATCH(LARGE(($M$2:$M$42=$O$2)*1/ROW($M$2:$M$42),ROWS($M$2:$M21)),1/ROW($M$2:$M$42),0),COLUMNS($M$2:M$2)),"")} | R22: {=IFERROR(INDEX($B$2:$C$184,MATCH(LARGE(($C$2:$C$184=$S$2)*1/ROW($C$2:$C$184),ROWS($C$2:$C21)),1/ROW($C$2:$C$184),0),COLUMNS($C$2:C$2)),"")}
B23: 五島市立奥浦中学校 | C23: 五島 | E23: 千葉県 | F23: {=IFERROR(INDEX($B$2:$C$184,MATCH(LARGE(($C$2:$C$184=$G$2)*1/ROW($C$2:$C$184),ROWS($C$2:$C22)),1/ROW($C$2:$C$184),0),COLUMNS($C$2:C$2)),"")} | H23: {=IFERROR(INDEX($B$2:$C$184,MATCH(LARGE(($C$2:$C$184=$I$2)*1/ROW($C$2:$C$184),ROWS($C$2:$C22)),1/ROW($C$2:$C$184),0),COLUMNS($C$2:C$2)),"")} | J23: {=IFERROR(INDEX($B$2:$C$184,MATCH(LARGE(($C$2:$C$184=$K$2)*1/ROW($C$2:$C$184),ROWS($C$2:$C22)),1/ROW($C$2:$C$184),0),COLUMNS($C$2:C$2)),"")} | L23: 2年800m | M23: 陸上 | N23: {=IFERROR(INDEX($L$2:$M$42,MATCH(LARGE(($M$2:$M$42=$O$2)*1/ROW($M$2:$M$42),ROWS($M$2:$M22)),1/ROW($M$2:$M$42),0),COLUMNS($M$2:M$2)),"")} | R23: {=IFERROR(INDEX($B$2:$C$184,MATCH(LARGE(($C$2:$C$184=$S$2)*1/ROW($C$2:$C$184),ROWS($C$2:$C22)),1/ROW($C$2:$C$184),0),COLUMNS($C$2:C$2)),"")}
B24: 五島市立崎山中学校 | C24: 五島 | D24: 体操 | E24: 東京都 | F24: {=IFERROR(INDEX($B$2:$C$184,MATCH(LARGE(($C$2:$C$184=$G$2)*1/ROW($C$2:$C$184),ROWS($C$2:$C23)),1/ROW($C$2:$C$184),0),COLUMNS($C$2:C$2)),"")} | H24: {=IFERROR(INDEX($B$2:$C$184,MATCH(LARGE(($C$2:$C$184=$I$2)*1/ROW($C$2:$C$184),ROWS($C$2:$C23)),1/ROW($C$2:$C$184),0),COLUMNS($C$2:C$2)),"")} | J24: {=IFERROR(INDEX($B$2:$C$184,MATCH(LARGE(($C$2:$C$184=$K$2)*1/ROW($C$2:$C$184),ROWS($C$2:$C23)),1/ROW($C$2:$C$184),0),COLUMNS($C$2:C$2)),"")} | L24: 3年800m | M24: 陸上 | N24: {=IFERROR(INDEX($L$2:$M$42,MATCH(LARGE(($M$2:$M$42=$O$2)*1/ROW($M$2:$M$42),ROWS($M$2:$M23)),1/ROW($M$2:$M$42),0),COLUMNS($M$2:M$2)),"")} | R24: {=IFERROR(INDEX($B$2:$C$184,MATCH(LARGE(($C$2:$C$184=$S$2)*1/ROW($C$2:$C$184),ROWS($C$2:$C23)),1/ROW($C$2:$C$184),0),COLUMNS($C$2:C$2)),"")}
B25: 五島市立翁頭中学校 | C25: 五島 | D25: 新体操 | E25: 神奈川県 | F25: {=IFERROR(INDEX($B$2:$C$184,MATCH(LARGE(($C$2:$C$184=$G$2)*1/ROW($C$2:$C$184),ROWS($C$2:$C24)),1/ROW($C$2:$C$184),0),COLUMNS($C$2:C$2)),"")} | H25: {=IFERROR(INDEX($B$2:$C$184,MATCH(LARGE(($C$2:$C$184=$I$2)*1/ROW($C$2:$C$184),ROWS($C$2:$C24)),1/ROW($C$2:$C$184),0),COLUMNS($C$2:C$2)),"")} | J25: {=IFERROR(INDEX($B$2:$C$184,MATCH(LARGE(($C$2:$C$184=$K$2)*1/ROW($C$2:$C$184),ROWS($C$2:$C24)),1/ROW($C$2:$C$184),0),COLUMNS($C$2:C$2)),"")} | L25: 共通800m | M25: 陸上 | N25: {=IFERROR(INDEX($L$2:$M$42,MATCH(LARGE(($M$2:$M$42=$O$2)*1/ROW($M$2:$M$42),ROWS($M$2:$M24)),1/ROW($M$2:$M$42),0),COLUMNS($M$2:M$2)),"")} | R25: {=IFERROR(INDEX($B$2:$C$184,MATCH(LARGE(($C$2:$C$184=$S$2)*1/ROW($C$2:$C$184),ROWS($C$2:$C24)),1/ROW($C$2:$C$184),0),COLUMNS($C$2:C$2)),"")}
B26: 五島市立久賀中学校 | C26: 五島 | D26: 卓球 | E26: 新潟県 | F26: {=IFERROR(INDEX($B$2:$C$184,MATCH(LARGE(($C$2:$C$184=$G$2)*1/ROW($C$2:$C$184),ROWS($C$2:$C25)),1/ROW($C$2:$C$184),0),COLUMNS($C$2:C$2)),"")} | H26: {=IFERROR(INDEX($B$2:$C$184,MATCH(LARGE(($C$2:$C$184=$I$2)*1/ROW($C$2:$C$184),ROWS($C$2:$C25)),1/ROW($C$2:$C$184),0),COLUMNS($C$2:C$2)),"")} | J26: {=IFERROR(INDEX($B$2:$C$184,MATCH(LARGE(($C$2:$C$184=$K$2)*1/ROW($C$2:$C$184),ROWS($C$2:$C25)),1/ROW($C$2:$C$184),0),COLUMNS($C$2:C$2)),"")} | L26: 共通1500m | M26: 陸上 | N26: {=IFERROR(INDEX($L$2:$M$42,MATCH(LARGE(($M$2:$M$42=$O$2)*1/ROW($M$2:$M$42),ROWS($M$2:$M25)),1/ROW($M$2:$M$42),0),COLUMNS($M$2:M$2)),"")} | R26: {=IFERROR(INDEX($B$2:$C$184,MATCH(LARGE(($C$2:$C$184=$S$2)*1/ROW($C$2:$C$184),ROWS($C$2:$C25)),1/ROW($C$2:$C$184),0),COLUMNS($C$2:C$2)),"")}
B27: 五島市立富江中学校 | C27: 五島 | D27: 相撲 | E27: 富山県 | F27: {=IFERROR(INDEX($B$2:$C$184,MATCH(LARGE(($C$2:$C$184=$G$2)*1/ROW($C$2:$C$184),ROWS($C$2:$C26)),1/ROW($C$2:$C$184),0),COLUMNS($C$2:C$2)),"")} | H27: {=IFERROR(INDEX($B$2:$C$184,MATCH(LARGE(($C$2:$C$184=$I$2)*1/ROW($C$2:$C$184),ROWS($C$2:$C26)),1/ROW($C$2:$C$184),0),COLUMNS($C$2:C$2)),"")} | J27: {=IFERROR(INDEX($B$2:$C$184,MATCH(LARGE(($C$2:$C$184=$K$2)*1/ROW($C$2:$C$184),ROWS($C$2:$C26)),1/ROW($C$2:$C$184),0),COLUMNS($C$2:C$2)),"")} | L27: 低学80mH | M27: 陸上 | N27: {=IFERROR(INDEX($L$2:$M$42,MATCH(LARGE(($M$2:$M$42=$O$2)*1/ROW($M$2:$M$42),ROWS($M$2:$M26)),1/ROW($M$2:$M$42),0),COLUMNS($M$2:M$2)),"")} | R27: {=IFERROR(INDEX($B$2:$C$184,MATCH(LARGE(($C$2:$C$184=$S$2)*1/ROW($C$2:$C$184),ROWS($C$2:$C26)),1/ROW($C$2:$C$184),0),COLUMNS($C$2:C$2)),"")}
B28: 五島市立玉之浦中学校 | C28: 五島 | D28: 柔道 | E28: 石川県 | F28: {=IFERROR(INDEX($B$2:$C$184,MATCH(LARGE(($C$2:$C$184=$G$2)*1/ROW($C$2:$C$184),ROWS($C$2:$C27)),1/ROW($C$2:$C$184),0),COLUMNS($C$2:C$2)),"")} | H28: {=IFERROR(INDEX($B$2:$C$184,MATCH(LARGE(($C$2:$C$184=$I$2)*1/ROW($C$2:$C$184),ROWS($C$2:$C27)),1/ROW($C$2:$C$184),0),COLUMNS($C$2:C$2)),"")} | J28: {=IFERROR(INDEX($B$2:$C$184,MATCH(LARGE(($C$2:$C$184=$K$2)*1/ROW($C$2:$C$184),ROWS($C$2:$C27)),1/ROW($C$2:$C$184),0),COLUMNS($C$2:C$2)),"")} | L28: 100mH | M28: 陸上 | N28: {=IFERROR(INDEX($L$2:$M$42,MATCH(LARGE(($M$2:$M$42=$O$2)*1/ROW($M$2:$M$42),ROWS($M$2:$M27)),1/ROW($M$2:$M$42),0),COLUMNS($M$2:M$2)),"")} | R28: {=IFERROR(INDEX($B$2:$C$184,MATCH(LARGE(($C$2:$C$184=$S$2)*1/ROW($C$2:$C$184),ROWS($C$2:$C27)),1/ROW($C$2:$C$184),0),COLUMNS($C$2:C$2)),"")}
B29: 五島市立三井楽中学校 | C29: 五島 | D29: 剣道 | E29: 福井県 | F29: {=IFERROR(INDEX($B$2:$C$184,MATCH(LARGE(($C$2:$C$184=$G$2)*1/ROW($C$2:$C$184),ROWS($C$2:$C28)),1/ROW($C$2:$C$184),0),COLUMNS($C$2:C$2)),"")} | H29: {=IFERROR(INDEX($B$2:$C$184,MATCH(LARGE(($C$2:$C$184=$I$2)*1/ROW($C$2:$C$184),ROWS($C$2:$C28)),1/ROW($C$2:$C$184),0),COLUMNS($C$2:C$2)),"")} | J29: {=IFERROR(INDEX($B$2:$C$184,MATCH(LARGE(($C$2:$C$184=$K$2)*1/ROW($C$2:$C$184),ROWS($C$2:$C28)),1/ROW($C$2:$C$184),0),COLUMNS($C$2:C$2)),"")} | L29: 50m自由形 | M29: 水泳 | N29: {=IFERROR(INDEX($L$2:$M$42,MATCH(LARGE(($M$2:$M$42=$O$2)*1/ROW($M$2:$M$42),ROWS($M$2:$M28)),1/ROW($M$2:$M$42),0),COLUMNS($M$2:M$2)),"")} | R29: {=IFERROR(INDEX($B$2:$C$184,MATCH(LARGE(($C$2:$C$184=$S$2)*1/ROW($C$2:$C$184),ROWS($C$2:$C28)),1/ROW($C$2:$C$184),0),COLUMNS($C$2:C$2)),"")}
B30: 五島市立嵯峨島中学校 | C30: 五島 | D30: バドミントン | E30: 山梨県 | F30: {=IFERROR(INDEX($B$2:$C$184,MATCH(LARGE(($C$2:$C$184=$G$2)*1/ROW($C$2:$C$184),ROWS($C$2:$C29)),1/ROW($C$2:$C$184),0),COLUMNS($C$2:C$2)),"")} | H30: {=IFERROR(INDEX($B$2:$C$184,MATCH(LARGE(($C$2:$C$184=$I$2)*1/ROW($C$2:$C$184),ROWS($C$2:$C29)),1/ROW($C$2:$C$184),0),COLUMNS($C$2:C$2)),"")} | J30: {=IFERROR(INDEX($B$2:$C$184,MATCH(LARGE(($C$2:$C$184=$K$2)*1/ROW($C$2:$C$184),ROWS($C$2:$C29)),1/ROW($C$2:$C$184),0),COLUMNS($C$2:C$2)),"")} | L30: 100m自由形 | M30: 水泳 | R30: {=IFERROR(INDEX($B$2:$C$184,MATCH(LARGE(($C$2:$C$184=$S$2)*1/ROW($C$2:$C$184),ROWS($C$2:$C29)),1/ROW($C$2:$C$184),0),COLUMNS($C$2:C$2)),"")}
B31: 五島市立岐宿中学校 | C31: 五島 | D31: ソフトテニス | E31: 長野県 | F31: {=IFERROR(INDEX($B$2:$C$184,MATCH(LARGE(($C$2:$C$184=$G$2)*1/ROW($C$2:$C$184),ROWS($C$2:$C30)),1/ROW($C$2:$C$184),0),COLUMNS($C$2:C$2)),"")} | H31: {=IFERROR(INDEX($B$2:$C$184,MATCH(LARGE(($C$2:$C$184=$I$2)*1/ROW($C$2:$C$184),ROWS($C$2:$C30)),1/ROW($C$2:$C$184),0),COLUMNS($C$2:C$2)),"")} | J31: {=IFERROR(INDEX($B$2:$C$184,MATCH(LARGE(($C$2:$C$184=$K$2)*1/ROW($C$2:$C$184),ROWS($C$2:$C30)),1/ROW($C$2:$C$184),0),COLUMNS($C$2:C$2)),"")} | L31: 200m自由形 | M31: 水泳 | R31: {=IFERROR(INDEX($B$2:$C$184,MATCH(LARGE(($C$2:$C$184=$S$2)*1/ROW($C$2:$C$184),ROWS($C$2:$C30)),1/ROW($C$2:$C$184),0),COLUMNS($C$2:C$2)),"")}
B32: 五島市立奈留中学校 | C32: 五島 | D32: 空手道 | E32: 岐阜県 | F32: {=IFERROR(INDEX($B$2:$C$184,MATCH(LARGE(($C$2:$C$184=$G$2)*1/ROW($C$2:$C$184),ROWS($C$2:$C31)),1/ROW($C$2:$C$184),0),COLUMNS($C$2:C$2)),"")} | H32: {=IFERROR(INDEX($B$2:$C$184,MATCH(LARGE(($C$2:$C$184=$I$2)*1/ROW($C$2:$C$184),ROWS($C$2:$C31)),1/ROW($C$2:$C$184),0),COLUMNS($C$2:C$2)),"")} | J32: {=IFERROR(INDEX($B$2:$C$184,MATCH(LARGE(($C$2:$C$184=$K$2)*1/ROW($C$2:$C$184),ROWS($C$2:$C31)),1/ROW($C$2:$C$184),0),COLUMNS($C$2:C$2)),"")} | L32: 400m自由形 | M32: 水泳 | R32: {=IFERROR(INDEX($B$2:$C$184,MATCH(LARGE(($C$2:$C$184=$S$2)*1/ROW($C$2:$C$184),ROWS($C$2:$C31)),1/ROW($C$2:$C$184),0),COLUMNS($C$2:C$2)),"")}
B33: 平戸市立平戸中学校 | C33: 平戸 | D33: テニス | E33: 静岡県 | F33: {=IFERROR(INDEX($B$2:$C$184,MATCH(LARGE(($C$2:$C$184=$G$2)*1/ROW($C$2:$C$184),ROWS($C$2:$C32)),1/ROW($C$2:$C$184),0),COLUMNS($C$2:C$2)),"")} | H33: {=IFERROR(INDEX($B$2:$C$184,MATCH(LARGE(($C$2:$C$184=$I$2)*1/ROW($C$2:$C$184),ROWS($C$2:$C32)),1/ROW($C$2:$C$184),0),COLUMNS($C$2:C$2)),"")} | J33: {=IFERROR(INDEX($B$2:$C$184,MATCH(LARGE(($C$2:$C$184=$K$2)*1/ROW($C$2:$C$184),ROWS($C$2:$C32)),1/ROW($C$2:$C$184),0),COLUMNS($C$2:C$2)),"")} | L33: 800m自由形 | M33: 水泳 | R33: {=IFERROR(INDEX($B$2:$C$184,MATCH(LARGE(($C$2:$C$184=$S$2)*1/ROW($C$2:$C$184),ROWS($C$2:$C32)),1/ROW($C$2:$C$184),0),COLUMNS($C$2:C$2)),"")}
B34: 平戸市立中野中学校 | C34: 平戸 | E34: 愛知県 | F34: {=IFERROR(INDEX($B$2:$C$184,MATCH(LARGE(($C$2:$C$184=$G$2)*1/ROW($C$2:$C$184),ROWS($C$2:$C33)),1/ROW($C$2:$C$184),0),COLUMNS($C$2:C$2)),"")} | H34: {=IFERROR(INDEX($B$2:$C$184,MATCH(LARGE(($C$2:$C$184=$I$2)*1/ROW($C$2:$C$184),ROWS($C$2:$C33)),1/ROW($C$2:$C$184),0),COLUMNS($C$2:C$2)),"")} | J34: {=IFERROR(INDEX($B$2:$C$184,MATCH(LARGE(($C$2:$C$184=$K$2)*1/ROW($C$2:$C$184),ROWS($C$2:$C33)),1/ROW($C$2:$C$184),0),COLUMNS($C$2:C$2)),"")} | L34: 1500m自由形 | M34: 水泳 | R34: {=IFERROR(INDEX($B$2:$C$184,MATCH(LARGE(($C$2:$C$184=$S$2)*1/ROW($C$2:$C$184),ROWS($C$2:$C33)),1/ROW($C$2:$C$184),0),COLUMNS($C$2:C$2)),"")}
B35: 平戸市立中部中学校 | C35: 平戸 | E35: 三重県 | F35: {=IFERROR(INDEX($B$2:$C$184,MATCH(LARGE(($C$2:$C$184=$G$2)*1/ROW($C$2:$C$184),ROWS($C$2:$C34)),1/ROW($C$2:$C$184),0),COLUMNS($C$2:C$2)),"")} | H35: {=IFERROR(INDEX($B$2:$C$184,MATCH(LARGE(($C$2:$C$184=$I$2)*1/ROW($C$2:$C$184),ROWS($C$2:$C34)),1/ROW($C$2:$C$184),0),COLUMNS($C$2:C$2)),"")} | J35: {=IFERROR(INDEX($B$2:$C$184,MATCH(LARGE(($C$2:$C$184=$K$2)*1/ROW($C$2:$C$184),ROWS($C$2:$C34)),1/ROW($C$2:$C$184),0),COLUMNS($C$2:C$2)),"")} | L35: 100m平泳ぎ | M35: 水泳 | R35: {=IFERROR(INDEX($B$2:$C$184,MATCH(LARGE(($C$2:$C$184=$S$2)*1/ROW($C$2:$C$184),ROWS($C$2:$C34)),1/ROW($C$2:$C$184),0),COLUMNS($C$2:C$2)),"")}
B36: 平戸市立南部中学校 | C36: 平戸 | E36: 滋賀県 | F36: {=IFERROR(INDEX($B$2:$C$184,MATCH(LARGE(($C$2:$C$184=$G$2)*1/ROW($C$2:$C$184),ROWS($C$2:$C35)),1/ROW($C$2:$C$184),0),COLUMNS($C$2:C$2)),"")} | H36: {=IFERROR(INDEX($B$2:$C$184,MATCH(LARGE(($C$2:$C$184=$I$2)*1/ROW($C$2:$C$184),ROWS($C$2:$C35)),1/ROW($C$2:$C$184),0),COLUMNS($C$2:C$2)),"")} | J36: {=IFERROR(INDEX($B$2:$C$184,MATCH(LARGE(($C$2:$C$184=$K$2)*1/ROW($C$2:$C$184),ROWS($C$2:$C35)),1/ROW($C$2:$C$184),0),COLUMNS($C$2:C$2)),"")} | L36: 200m平泳ぎ | M36: 水泳 | R36: {=IFERROR(INDEX($B$2:$C$184,MATCH(LARGE(($C$2:$C$184=$S$2)*1/ROW($C$2:$C$184),ROWS($C$2:$C35)),1/ROW($C$2:$C$184),0),COLUMNS($C$2:C$2)),"")}
B37: 平戸市立度島中学校 | C37: 平戸 | E37: 京都府 | F37: {=IFERROR(INDEX($B$2:$C$184,MATCH(LARGE(($C$2:$C$184=$G$2)*1/ROW($C$2:$C$184),ROWS($C$2:$C36)),1/ROW($C$2:$C$184),0),COLUMNS($C$2:C$2)),"")} | H37: {=IFERROR(INDEX($B$2:$C$184,MATCH(LARGE(($C$2:$C$184=$I$2)*1/ROW($C$2:$C$184),ROWS($C$2:$C36)),1/ROW($C$2:$C$184),0),COLUMNS($C$2:C$2)),"")} | J37: {=IFERROR(INDEX($B$2:$C$184,MATCH(LARGE(($C$2:$C$184=$K$2)*1/ROW($C$2:$C$184),ROWS($C$2:$C36)),1/ROW($C$2:$C$184),0),COLUMNS($C$2:C$2)),"")} | L37: 100mﾊﾞﾀﾌﾗｲ | M37: 水泳 | R37: {=IFERROR(INDEX($B$2:$C$184,MATCH(LARGE(($C$2:$C$184=$S$2)*1/ROW($C$2:$C$184),ROWS($C$2:$C36)),1/ROW($C$2:$C$184),0),COLUMNS($C$2:C$2)),"")}
B38: 平戸市立大島中学校 | C38: 平戸 | E38: 大阪府 | F38: {=IFERROR(INDEX($B$2:$C$184,MATCH(LARGE(($C$2:$C$184=$G$2)*1/ROW($C$2:$C$184),ROWS($C$2:$C37)),1/ROW($C$2:$C$184),0),COLUMNS($C$2:C$2)),"")} | H38: {=IFERROR(INDEX($B$2:$C$184,MATCH(LARGE(($C$2:$C$184=$I$2)*1/ROW($C$2:$C$184),ROWS($C$2:$C37)),1/ROW($C$2:$C$184),0),COLUMNS($C$2:C$2)),"")} | J38: {=IFERROR(INDEX($B$2:$C$184,MATCH(LARGE(($C$2:$C$184=$K$2)*1/ROW($C$2:$C$184),ROWS($C$2:$C37)),1/ROW($C$2:$C$184),0),COLUMNS($C$2:C$2)),"")} | L38: 200mﾊﾞﾀﾌﾗｲ | M38: 水泳 | R38: {=IFERROR(INDEX($B$2:$C$184,MATCH(LARGE(($C$2:$C$184=$S$2)*1/ROW($C$2:$C$184),ROWS($C$2:$C37)),1/ROW($C$2:$C$184),0),COLUMNS($C$2:C$2)),"")}
B39: 平戸市立生月中学校 | C39: 平戸 | E39: 兵庫県 | F39: {=IFERROR(INDEX($B$2:$C$184,MATCH(LARGE(($C$2:$C$184=$G$2)*1/ROW($C$2:$C$184),ROWS($C$2:$C38)),1/ROW($C$2:$C$184),0),COLUMNS($C$2:C$2)),"")} | H39: {=IFERROR(INDEX($B$2:$C$184,MATCH(LARGE(($C$2:$C$184=$I$2)*1/ROW($C$2:$C$184),ROWS($C$2:$C38)),1/ROW($C$2:$C$184),0),COLUMNS($C$2:C$2)),"")} | J39: {=IFERROR(INDEX($B$2:$C$184,MATCH(LARGE(($C$2:$C$184=$K$2)*1/ROW($C$2:$C$184),ROWS($C$2:$C38)),1/ROW($C$2:$C$184),0),COLUMNS($C$2:C$2)),"")} | L39: 100m背泳ぎ | M39: 水泳 | R39: {=IFERROR(INDEX($B$2:$C$184,MATCH(LARGE(($C$2:$C$184=$S$2)*1/ROW($C$2:$C$184),ROWS($C$2:$C38)),1/ROW($C$2:$C$184),0),COLUMNS($C$2:C$2)),"")}
B40: 平戸市立田平中学校 | C40: 平戸 | E40: 奈良県 | F40: {=IFERROR(INDEX($B$2:$C$184,MATCH(LARGE(($C$2:$C$184=$G$2)*1/ROW($C$2:$C$184),ROWS($C$2:$C39)),1/ROW($C$2:$C$184),0),COLUMNS($C$2:C$2)),"")} | H40: {=IFERROR(INDEX($B$2:$C$184,MATCH(LARGE(($C$2:$C$184=$I$2)*1/ROW($C$2:$C$184),ROWS($C$2:$C39)),1/ROW($C$2:$C$184),0),COLUMNS($C$2:C$2)),"")} | J40: {=IFERROR(INDEX($B$2:$C$184,MATCH(LARGE(($C$2:$C$184=$K$2)*1/ROW($C$2:$C$184),ROWS($C$2:$C39)),1/ROW($C$2:$C$184),0),COLUMNS($C$2:C$2)),"")} | L40: 200m背泳ぎ | M40: 水泳 | R40: {=IFERROR(INDEX($B$2:$C$184,MATCH(LARGE(($C$2:$C$184=$S$2)*1/ROW($C$2:$C$184),ROWS($C$2:$C39)),1/ROW($C$2:$C$184),0),COLUMNS($C$2:C$2)),"")}
...
